BEGIN:VCALENDAR
VERSION:2.0
PRODID:-//The Yoyo Archive - ECPv6.15.15//NONSGML v1.0//EN
CALSCALE:GREGORIAN
METHOD:PUBLISH
X-WR-CALNAME:The Yoyo Archive
X-ORIGINAL-URL:https://yoyoarchive.org
X-WR-CALDESC:Events for The Yoyo Archive
REFRESH-INTERVAL;VALUE=DURATION:PT1H
X-Robots-Tag:noindex
X-PUBLISHED-TTL:PT1H
BEGIN:VTIMEZONE
TZID:America/New_York
BEGIN:DAYLIGHT
TZOFFSETFROM:-0500
TZOFFSETTO:-0400
TZNAME:EDT
DTSTART:20250309T070000
END:DAYLIGHT
BEGIN:STANDARD
TZOFFSETFROM:-0400
TZOFFSETTO:-0500
TZNAME:EST
DTSTART:20251102T060000
END:STANDARD
BEGIN:DAYLIGHT
TZOFFSETFROM:-0500
TZOFFSETTO:-0400
TZNAME:EDT
DTSTART:20260308T070000
END:DAYLIGHT
BEGIN:STANDARD
TZOFFSETFROM:-0400
TZOFFSETTO:-0500
TZNAME:EST
DTSTART:20261101T060000
END:STANDARD
BEGIN:DAYLIGHT
TZOFFSETFROM:-0500
TZOFFSETTO:-0400
TZNAME:EDT
DTSTART:20270314T070000
END:DAYLIGHT
BEGIN:STANDARD
TZOFFSETFROM:-0400
TZOFFSETTO:-0500
TZNAME:EST
DTSTART:20271107T060000
END:STANDARD
END:VTIMEZONE
BEGIN:VEVENT
DTSTART;TZID=America/New_York:20260606T093000
DTEND;TZID=America/New_York:20260606T163000
DTSTAMP:20260423T063352
CREATED:20260331T141756Z
LAST-MODIFIED:20260331T141808Z
UID:9110-1780738200-1780763400@yoyoarchive.org
SUMMARY:2026 United YoYo & Kendama Contest
DESCRIPTION:This year UYYC is on Saturday\, June 6 and is the same day as National Yoyo Day. That’s pretty extraordinary in of itself but UYYC is also taking place at the Missouri History Museum. Just the date of June 6 has historical significance as it was the birthday of Donald Duncan who started Duncan Yoyos in 1929!
URL:https://yoyoarchive.org/event/2026-united-yoyo-kendama-contest
LOCATION:Missouri History Museum\, 5700 Lindell Blvd\, St Louis\, MO\, 63112\, United States
CATEGORIES:Competition
ATTACH;FMTTYPE=image/jpeg:https://yoyoarchive.org/wp-content/uploads/2026/03/513d0187308a38f2675c19ec784a1a419d87ae41_2_375x500.webp
END:VEVENT
BEGIN:VEVENT
DTSTART;TZID=America/New_York:20260620T100000
DTEND;TZID=America/New_York:20260620T170000
DTSTAMP:20260423T063352
CREATED:20260108T141258Z
LAST-MODIFIED:20260108T141554Z
UID:8496-1781949600-1781974800@yoyoarchive.org
SUMMARY:2026 Midwest Regional Yo-Yo Championship
DESCRIPTION:Center stage
URL:https://yoyoarchive.org/event/2026-midwest-regional-yo-yo-championship
LOCATION:Mall of America\, 2131 Lindau Lane\, Bloomington\, MN\, 55425\, United States
CATEGORIES:Competition
ATTACH;FMTTYPE=image/png:https://yoyoarchive.org/wp-content/uploads/2026/01/cropped-MWRblack-1.webp
END:VEVENT
BEGIN:VEVENT
DTSTART;TZID=America/New_York:20260626T080000
DTEND;TZID=America/New_York:20260628T170000
DTSTAMP:20260423T063352
CREATED:20260108T141525Z
LAST-MODIFIED:20260108T141525Z
UID:8499-1782460800-1782666000@yoyoarchive.org
SUMMARY:2026 US National Yo-yo Contest
DESCRIPTION:Las Vegas\, NV\nVenue will be updated when announced
URL:https://yoyoarchive.org/event/2026-us-national-yo-yo-contest
LOCATION:MO
CATEGORIES:Competition
ATTACH;FMTTYPE=image/png:https://yoyoarchive.org/wp-content/uploads/2026/01/2025-Nationals-NYYL-e1767881717112.webp
END:VEVENT
END:VCALENDAR